BEGIN:VCALENDAR
VERSION:2.0
PRODID:-//hacksw/handcal//NONSGML v1.0//EN
BEGIN:VEVENT
DTSTAMP:20160322T160000Z
DTSTART:20160322T160000Z
DTEND:20160322T190000Z
SUMMARY:DIALOGFORUM FBQ
END:VEVENT
END:VCALENDAR
